BEGIN:VCALENDAR
VERSION:2.0
PRODID:-//Plone.org//NONSGML plone.app.event//EN
X-WR-TIMEZONE:Europe/Rome
BEGIN:VEVENT
SUMMARY:SINTEF's Experience on CO2 Capture\, Transport\, and Storage
DTSTART;TZID=Europe/Rome;VALUE=DATE-TIME:20240228T163000
DTEND;TZID=Europe/Rome;VALUE=DATE-TIME:20240228T193000
DTSTAMP;VALUE=DATE-TIME:20260421T061006Z
UID:bf950b3e253e448990bafecab8953b2d@dicam.unibo.it
CREATED;VALUE=DATE-TIME:20240222T085007Z
DESCRIPTION:Dr. Francesco Finotti\, SINTEF Energy Research\, Trondheim\, N
 orway
LAST-MODIFIED;VALUE=DATE-TIME:20240222T093323Z
URL:https://dicam.unibo.it/it/eventi/sintef-s-experience-on-co2-capture-tr
 ansport-and-storage
END:VEVENT
BEGIN:VTIMEZONE
TZID:Europe/Rome
X-LIC-LOCATION:Europe/Rome
BEGIN:STANDARD
DTSTART;VALUE=DATE-TIME:20231029T020000
TZNAME:CET
TZOFFSETFROM:+0200
TZOFFSETTO:+0100
END:STANDARD
END:VTIMEZONE
END:VCALENDAR
