BEGIN:VCALENDAR
VERSION:2.0
PRODID:-//Plone.org//NONSGML plone.app.event//EN
X-WR-TIMEZONE:Europe/Rome
BEGIN:VEVENT
SUMMARY:SNOW\, DROUGHTS AND WATER RESOURCES MANAGEMENT IN 2100
DTSTART;TZID=Europe/Rome;VALUE=DATE-TIME:20241030T130000
DTEND;TZID=Europe/Rome;VALUE=DATE-TIME:20241030T150000
DTSTAMP;VALUE=DATE-TIME:20260421T043926Z
UID:fb88c4b963c6439aab6fa029f0a487aa@dicam.unibo.it
CREATED;VALUE=DATE-TIME:20241028T081410Z
DESCRIPTION:Dr. FRANCESCO AVANZI\, Fondazione CIMA
LAST-MODIFIED;VALUE=DATE-TIME:20241028T081856Z
URL:https://dicam.unibo.it/it/eventi/snow-droughts-and-water-resources-man
 agement-in-2100
END:VEVENT
BEGIN:VTIMEZONE
TZID:Europe/Rome
X-LIC-LOCATION:Europe/Rome
BEGIN:STANDARD
DTSTART;VALUE=DATE-TIME:20241027T020000
TZNAME:CET
TZOFFSETFROM:+0200
TZOFFSETTO:+0100
END:STANDARD
END:VTIMEZONE
END:VCALENDAR
