BEGIN:VCALENDAR
VERSION:2.0
PRODID:-//Plone.org//NONSGML plone.app.event//EN
X-WR-TIMEZONE:Europe/Rome
BEGIN:VEVENT
SUMMARY:Soluzioni oceaniche per la crisi climatica: comprendere la rimozio
 ne dell'anidride carbonica marina
DTSTART;TZID=Europe/Rome;VALUE=DATE-TIME:20240531T160000
DTEND;TZID=Europe/Rome;VALUE=DATE-TIME:20240531T180000
DTSTAMP;VALUE=DATE-TIME:20260421T061320Z
UID:61673773b8ce4261b797f2d05bb33743@dicam.unibo.it
CREATED;VALUE=DATE-TIME:20240528T082004Z
DESCRIPTION:Emanuele Di Lorenzo
LAST-MODIFIED;VALUE=DATE-TIME:20240528T082539Z
URL:https://dicam.unibo.it/it/eventi/soluzioni-oceaniche-per-la-crisi-clim
 atica-comprendere-la-rimozione-dell-anidride-carbonica-marina
END:VEVENT
BEGIN:VTIMEZONE
TZID:Europe/Rome
X-LIC-LOCATION:Europe/Rome
BEGIN:DAYLIGHT
DTSTART;VALUE=DATE-TIME:20240331T030000
TZNAME:CEST
TZOFFSETFROM:+0100
TZOFFSETTO:+0200
END:DAYLIGHT
END:VTIMEZONE
END:VCALENDAR
