BEGIN:VCALENDAR
VERSION:2.0
PRODID:-//Plone.org//NONSGML plone.app.event//EN
X-WR-TIMEZONE:Europe/Rome
BEGIN:VEVENT
SUMMARY:Spatial Statistics in Groundwater Engineering
DTSTART;TZID=Europe/Rome;VALUE=DATE-TIME:20211125T091500
DTEND;TZID=Europe/Rome;VALUE=DATE-TIME:20211125T111500
DTSTAMP;VALUE=DATE-TIME:20260424T205811Z
UID:2733756ea4714cf18728f9313d60e09f@dicam.unibo.it
CREATED;VALUE=DATE-TIME:20211123T130832Z
DESCRIPTION:Prof. Daniel M. Tartakovsky\, Stanford University
LAST-MODIFIED;VALUE=DATE-TIME:20211124T080207Z
URL:https://dicam.unibo.it/it/eventi/spatial-statistics-in-groundwater-eng
 ineering
END:VEVENT
BEGIN:VTIMEZONE
TZID:Europe/Rome
X-LIC-LOCATION:Europe/Rome
BEGIN:STANDARD
DTSTART;VALUE=DATE-TIME:20211031T020000
TZNAME:CET
TZOFFSETFROM:+0200
TZOFFSETTO:+0100
END:STANDARD
END:VTIMEZONE
END:VCALENDAR
