BEGIN:VCALENDAR
VERSION:2.0
PRODID:-//Plone.org//NONSGML plone.app.event//EN
X-WR-TIMEZONE:Europe/Rome
BEGIN:VEVENT
SUMMARY:Spring Course prof. C. Carloni: "Fracture Mechanics"
DTSTART;TZID=Europe/Rome;VALUE=DATE-TIME:20180202T140000
DTEND;TZID=Europe/Rome;VALUE=DATE-TIME:20180407T170000
DTSTAMP;VALUE=DATE-TIME:20260424T092428Z
UID:9b8f4f3b0f10494aa19e6f633b493913@dicam.unibo.it
CREATED;VALUE=DATE-TIME:20180130T074832Z
LAST-MODIFIED;VALUE=DATE-TIME:20180130T075116Z
URL:https://dicam.unibo.it/it/eventi/spring-course-prof.-c.-carloni-fractu
 re-mechanics
END:VEVENT
BEGIN:VTIMEZONE
TZID:Europe/Rome
X-LIC-LOCATION:Europe/Rome
BEGIN:STANDARD
DTSTART;VALUE=DATE-TIME:20171029T020000
TZNAME:CET
TZOFFSETFROM:+0200
TZOFFSETTO:+0100
END:STANDARD
BEGIN:DAYLIGHT
DTSTART;VALUE=DATE-TIME:20180325T030000
TZNAME:CEST
TZOFFSETFROM:+0100
TZOFFSETTO:+0200
END:DAYLIGHT
END:VTIMEZONE
END:VCALENDAR
