BEGIN:VCALENDAR
VERSION:2.0
PRODID:-//Plone.org//NONSGML plone.app.event//EN
X-WR-TIMEZONE:Europe/Rome
BEGIN:VEVENT
SUMMARY:Storia dell’insegnamento di Strade nell’Universita’ di Bolog
 na
DTSTART;TZID=Europe/Rome;VALUE=DATE-TIME:20170209T170000
DTEND;TZID=Europe/Rome;VALUE=DATE-TIME:20170209T190000
DTSTAMP;VALUE=DATE-TIME:20260421T161658Z
UID:3246851b12f345f5bc7842c516e6f4da@dicam.unibo.it
CREATED;VALUE=DATE-TIME:20170202T103923Z
DESCRIPTION:Ciclo di Conferenze della Scuola di Ingegneria e Architettura\
 , in collaborazione con il CIRESS (Centro Interdipartimentale "Federigo En
 riques").
LAST-MODIFIED;VALUE=DATE-TIME:20170202T104852Z
URL:https://dicam.unibo.it/it/eventi/storia-dell2019insegnamento-di-strade
 -nell2019universita2019-di-bologna
END:VEVENT
BEGIN:VTIMEZONE
TZID:Europe/Rome
X-LIC-LOCATION:Europe/Rome
BEGIN:STANDARD
DTSTART;VALUE=DATE-TIME:20161030T020000
TZNAME:CET
TZOFFSETFROM:+0200
TZOFFSETTO:+0100
END:STANDARD
END:VTIMEZONE
END:VCALENDAR
