BEGIN:VCALENDAR
VERSION:2.0
PRODID:-//Plone.org//NONSGML plone.app.event//EN
X-WR-TIMEZONE:Europe/Rome
BEGIN:VEVENT
SUMMARY:Structural Aesthetics and Self-Organization
DTSTART;TZID=Europe/Rome;VALUE=DATE-TIME:20170217T100000
DTEND;TZID=Europe/Rome;VALUE=DATE-TIME:20170217T120000
DTSTAMP;VALUE=DATE-TIME:20260423T224833Z
UID:ec8f69dba0a8405c9dbd63b364a16d96@dicam.unibo.it
CREATED;VALUE=DATE-TIME:20170202T104605Z
DESCRIPTION:Lectio Magistralis del Prof. Chris Williams presso la Scuola d
 i Ingegneria e Architettura
LAST-MODIFIED;VALUE=DATE-TIME:20250624T063348Z
URL:https://dicam.unibo.it/it/eventi/structural-aesthetics-and-self-organi
 zation
END:VEVENT
BEGIN:VTIMEZONE
TZID:Europe/Rome
X-LIC-LOCATION:Europe/Rome
BEGIN:STANDARD
DTSTART;VALUE=DATE-TIME:20161030T020000
TZNAME:CET
TZOFFSETFROM:+0200
TZOFFSETTO:+0100
END:STANDARD
END:VTIMEZONE
END:VCALENDAR
