BEGIN:VCALENDAR
VERSION:2.0
PRODID:-//Plone.org//NONSGML plone.app.event//EN
X-WR-TIMEZONE:Europe/Rome
BEGIN:VEVENT
SUMMARY:Subsea Operations and Equipment
DTSTART;TZID=Europe/Rome;VALUE=DATE-TIME:20230421T090000
DTEND;TZID=Europe/Rome;VALUE=DATE-TIME:20230421T120000
DTSTAMP;VALUE=DATE-TIME:20260421T060930Z
UID:8131092917bf4490a07444c206aff82e@dicam.unibo.it
CREATED;VALUE=DATE-TIME:20230419T065242Z
DESCRIPTION:G. Pereira Drumond\, Federal University of Rio de Janeiro\, Br
 azil and other
LAST-MODIFIED;VALUE=DATE-TIME:20230419T065823Z
URL:https://dicam.unibo.it/it/eventi/subsea-operations-and-equipment
END:VEVENT
BEGIN:VTIMEZONE
TZID:Europe/Rome
X-LIC-LOCATION:Europe/Rome
BEGIN:DAYLIGHT
DTSTART;VALUE=DATE-TIME:20230326T030000
TZNAME:CEST
TZOFFSETFROM:+0100
TZOFFSETTO:+0200
END:DAYLIGHT
END:VTIMEZONE
END:VCALENDAR
