BEGIN:VCALENDAR
VERSION:2.0
PRODID:-//Plone.org//NONSGML plone.app.event//EN
X-WR-TIMEZONE:Europe/Rome
BEGIN:VEVENT
SUMMARY:Summer School "Metal 3D Printing in Construction"
DTSTART;TZID=Europe/Rome;VALUE=DATE-TIME:20230704T000000
DTEND;TZID=Europe/Rome;VALUE=DATE-TIME:20230706T235900
DTSTAMP;VALUE=DATE-TIME:20260421T061007Z
UID:58c2709449414fe9806a1e139279e7fb@dicam.unibo.it
CREATED;VALUE=DATE-TIME:20230512T135048Z
LAST-MODIFIED;VALUE=DATE-TIME:20230512T135049Z
URL:https://dicam.unibo.it/it/eventi/summer-school-metal-3d-printing-in-co
 nstruction
END:VEVENT
BEGIN:VTIMEZONE
TZID:Europe/Rome
X-LIC-LOCATION:Europe/Rome
BEGIN:DAYLIGHT
DTSTART;VALUE=DATE-TIME:20230326T030000
TZNAME:CEST
TZOFFSETFROM:+0100
TZOFFSETTO:+0200
END:DAYLIGHT
END:VTIMEZONE
END:VCALENDAR
