BEGIN:VCALENDAR
VERSION:2.0
PRODID:-//Plone.org//NONSGML plone.app.event//EN
X-WR-TIMEZONE:Europe/Rome
BEGIN:VEVENT
SUMMARY:Sustainable blue economy in Europe and in the Mediterranean basin:
  basics\, environmental and economical relevance and challenges
DTSTART;TZID=Europe/Rome;VALUE=DATE-TIME:20240111T150000
DTEND;TZID=Europe/Rome;VALUE=DATE-TIME:20240111T160000
DTSTAMP;VALUE=DATE-TIME:20260419T214743Z
UID:e7c6701c163c41d9955bc60469fd4884@dicam.unibo.it
CREATED;VALUE=DATE-TIME:20231220T085839Z
DESCRIPTION:Prof. Dr. Fabio Trincardi\, Director of the Department of Eart
 h System Sciences and Environmental Technologies of CNR\, Rome
LAST-MODIFIED;VALUE=DATE-TIME:20231220T091648Z
URL:https://dicam.unibo.it/it/eventi/sustainable-blue-economy-in-europe-an
 d-in-the-mediterranean-basin-basics-environmental-and-economical-relevance
 -and-challenges
END:VEVENT
BEGIN:VTIMEZONE
TZID:Europe/Rome
X-LIC-LOCATION:Europe/Rome
BEGIN:STANDARD
DTSTART;VALUE=DATE-TIME:20231029T020000
TZNAME:CET
TZOFFSETFROM:+0200
TZOFFSETTO:+0100
END:STANDARD
END:VTIMEZONE
END:VCALENDAR
