BEGIN:VCALENDAR
VERSION:2.0
PRODID:-//Plone.org//NONSGML plone.app.event//EN
X-WR-TIMEZONE:Europe/Rome
BEGIN:VEVENT
SUMMARY:Sustainable Concrete Made with Recycled Asphalt Pavement
DTSTART;TZID=Europe/Rome;VALUE=DATE-TIME:20231012T103000
DTEND;TZID=Europe/Rome;VALUE=DATE-TIME:20231012T170000
DTSTAMP;VALUE=DATE-TIME:20260421T043016Z
UID:85e9aed8301e4ada8fb2c5a8b2ec924a@dicam.unibo.it
CREATED;VALUE=DATE-TIME:20231005T091906Z
DESCRIPTION:Evento finale del Progetto RAPCON
LAST-MODIFIED;VALUE=DATE-TIME:20231005T093252Z
URL:https://dicam.unibo.it/it/eventi/sustainable-concrete-made-with-recycl
 ed-asphalt-pavement-rap-con
END:VEVENT
BEGIN:VTIMEZONE
TZID:Europe/Rome
X-LIC-LOCATION:Europe/Rome
BEGIN:DAYLIGHT
DTSTART;VALUE=DATE-TIME:20230326T030000
TZNAME:CEST
TZOFFSETFROM:+0100
TZOFFSETTO:+0200
END:DAYLIGHT
END:VTIMEZONE
END:VCALENDAR
