BEGIN:VCALENDAR
VERSION:2.0
PRODID:-//Plone.org//NONSGML plone.app.event//EN
X-WR-TIMEZONE:Europe/Rome
BEGIN:VEVENT
SUMMARY:The Furan/maleimide Diels-Alder Reaction Applied to Bioresourced P
 olymers and Macromonomers
DTSTART;TZID=Europe/Rome;VALUE=DATE-TIME:20231110T100000
DTEND;TZID=Europe/Rome;VALUE=DATE-TIME:20231110T120000
DTSTAMP;VALUE=DATE-TIME:20260421T045320Z
UID:9e58777eda754e249a71bea703286785@dicam.unibo.it
CREATED;VALUE=DATE-TIME:20231107T095355Z
DESCRIPTION:Prof. Alessandro Gandini\, Research Supervisor at Pagora Schoo
 l\, Grenoble Polytechnic\, France and at University of São Paulo at São 
 Carlos and Lorena\, Brazil
LAST-MODIFIED;VALUE=DATE-TIME:20231107T095452Z
URL:https://dicam.unibo.it/it/eventi/the-furan-maleimide-diels-alder-react
 ion-applied-to-bioresourced-polymers-and-macromonomers
END:VEVENT
BEGIN:VTIMEZONE
TZID:Europe/Rome
X-LIC-LOCATION:Europe/Rome
BEGIN:STANDARD
DTSTART;VALUE=DATE-TIME:20231029T020000
TZNAME:CET
TZOFFSETFROM:+0200
TZOFFSETTO:+0100
END:STANDARD
END:VTIMEZONE
END:VCALENDAR
