BEGIN:VCALENDAR
VERSION:2.0
PRODID:-//Plone.org//NONSGML plone.app.event//EN
X-WR-TIMEZONE:Europe/Rome
BEGIN:VEVENT
SUMMARY:The Mystery of the Origin of the Perfect Arch
DTSTART;TZID=Europe/Rome;VALUE=DATE-TIME:20240920T120000
DTEND;TZID=Europe/Rome;VALUE=DATE-TIME:20240920T140000
DTSTAMP;VALUE=DATE-TIME:20260421T061321Z
UID:0b2781a1627444d3a50fa67c46044dee@dicam.unibo.it
CREATED;VALUE=DATE-TIME:20240918T073616Z
DESCRIPTION:prof. Enrique Hernández Montes (University of Granada\, Spain
 )
LAST-MODIFIED;VALUE=DATE-TIME:20240918T073617Z
URL:https://dicam.unibo.it/it/eventi/the-mystery-of-the-origin-of-the-perf
 ect-arch
END:VEVENT
BEGIN:VTIMEZONE
TZID:Europe/Rome
X-LIC-LOCATION:Europe/Rome
BEGIN:DAYLIGHT
DTSTART;VALUE=DATE-TIME:20240331T030000
TZNAME:CEST
TZOFFSETFROM:+0100
TZOFFSETTO:+0200
END:DAYLIGHT
END:VTIMEZONE
END:VCALENDAR
