BEGIN:VCALENDAR
VERSION:2.0
PRODID:-//Plone.org//NONSGML plone.app.event//EN
X-WR-TIMEZONE:Europe/Rome
BEGIN:VEVENT
SUMMARY:The representation of the vegetation’s root zone in climate mode
 ls
DTSTART;TZID=Europe/Rome;VALUE=DATE-TIME:20211123T120000
DTEND;TZID=Europe/Rome;VALUE=DATE-TIME:20211123T140000
DTSTAMP;VALUE=DATE-TIME:20260425T190404Z
UID:2a58a428b2a7427d8ca991bbe4753986@dicam.unibo.it
CREATED;VALUE=DATE-TIME:20211027T105052Z
DESCRIPTION:Dr Fransje van Oorschot\, Delft University of Technology
LAST-MODIFIED;VALUE=DATE-TIME:20211122T163145Z
URL:https://dicam.unibo.it/it/eventi/the-representation-of-the-vegetation-
 s-root-zone-in-climate-models
END:VEVENT
BEGIN:VTIMEZONE
TZID:Europe/Rome
X-LIC-LOCATION:Europe/Rome
BEGIN:STANDARD
DTSTART;VALUE=DATE-TIME:20211031T020000
TZNAME:CET
TZOFFSETFROM:+0200
TZOFFSETTO:+0100
END:STANDARD
END:VTIMEZONE
END:VCALENDAR
