BEGIN:VCALENDAR
VERSION:2.0
PRODID:-//Plone.org//NONSGML plone.app.event//EN
X-WR-TIMEZONE:Europe/Rome
BEGIN:VEVENT
SUMMARY:The Styrenic Polymers industrial production: Chemical-Physical asp
 ects
DTSTART;TZID=Europe/Rome;VALUE=DATE-TIME:20201204T100000
DTEND;TZID=Europe/Rome;VALUE=DATE-TIME:20201204T120000
DTSTAMP;VALUE=DATE-TIME:20260425T232725Z
UID:19dfba06084240a8944eb8ec9ec7f5f3@dicam.unibo.it
CREATED;VALUE=DATE-TIME:20201028T142713Z
DESCRIPTION:Seminario Ing. Nicola Fiorotto (Styrenic Polymers R&D and Tech
 nology development Manager\, Mantova Research Centre\, ENI Versalis S.p.A.
 \, Stabilimento di Mantova)
LAST-MODIFIED;VALUE=DATE-TIME:20201028T143202Z
URL:https://dicam.unibo.it/it/eventi/the-styrenic-polymers-industrial-prod
 uction-chemical-physical-aspects
END:VEVENT
BEGIN:VTIMEZONE
TZID:Europe/Rome
X-LIC-LOCATION:Europe/Rome
BEGIN:STANDARD
DTSTART;VALUE=DATE-TIME:20201025T020000
TZNAME:CET
TZOFFSETFROM:+0200
TZOFFSETTO:+0100
END:STANDARD
END:VTIMEZONE
END:VCALENDAR
