BEGIN:VCALENDAR
VERSION:2.0
PRODID:-//Plone.org//NONSGML plone.app.event//EN
X-WR-TIMEZONE:Europe/Rome
BEGIN:VEVENT
SUMMARY:Towards an integrated assessment strategy for masonry structures: 
 Minor destructive in-situ tests and analytical-based multiscale model
DTSTART;TZID=Europe/Rome;VALUE=DATE-TIME:20230206T150000
DTEND;TZID=Europe/Rome;VALUE=DATE-TIME:20230206T160000
DTSTAMP;VALUE=DATE-TIME:20260421T061120Z
UID:7ab9da97833544d6a540f56353d527df@dicam.unibo.it
CREATED;VALUE=DATE-TIME:20230123T105735Z
DESCRIPTION:Dr. Rita Esposito\, Assistant Professor\, Faculty of Civil Eng
 ineering & Geosciences\, Section Applied Mechanics\, TU Delft (The Netherl
 ands).
LAST-MODIFIED;VALUE=DATE-TIME:20230123T113325Z
URL:https://dicam.unibo.it/it/eventi/towards-an-integrated-assessment-stra
 tegy-for-masonry-structures-minor-destructive-in-situ-tests-and-analytical
 -based-multiscale-model-2
END:VEVENT
BEGIN:VTIMEZONE
TZID:Europe/Rome
X-LIC-LOCATION:Europe/Rome
BEGIN:STANDARD
DTSTART;VALUE=DATE-TIME:20221030T020000
TZNAME:CET
TZOFFSETFROM:+0200
TZOFFSETTO:+0100
END:STANDARD
END:VTIMEZONE
END:VCALENDAR
