BEGIN:VCALENDAR
VERSION:2.0
PRODID:-//Plone.org//NONSGML plone.app.event//EN
X-WR-TIMEZONE:Europe/Rome
BEGIN:VEVENT
SUMMARY:Towards more robust evaluation and use of environmental models aga
 inst climate uncertainty
DTSTART;TZID=Europe/Rome;VALUE=DATE-TIME:20220926T110000
DTEND;TZID=Europe/Rome;VALUE=DATE-TIME:20220926T120000
DTSTAMP;VALUE=DATE-TIME:20260420T215543Z
UID:fdc07ffc29684d3d9f976dfb73ab65f2@dicam.unibo.it
CREATED;VALUE=DATE-TIME:20220923T112359Z
DESCRIPTION:Francesca Pianosi - Univ. Bristol
LAST-MODIFIED;VALUE=DATE-TIME:20220926T065420Z
URL:https://dicam.unibo.it/it/eventi/towards-more-robust-evaluation-and-us
 e-of-environmental-models-against-climate-uncertainty-1
END:VEVENT
BEGIN:VTIMEZONE
TZID:Europe/Rome
X-LIC-LOCATION:Europe/Rome
BEGIN:DAYLIGHT
DTSTART;VALUE=DATE-TIME:20220327T030000
TZNAME:CEST
TZOFFSETFROM:+0100
TZOFFSETTO:+0200
END:DAYLIGHT
END:VTIMEZONE
END:VCALENDAR
