BEGIN:VCALENDAR
VERSION:2.0
PRODID:-//Plone.org//NONSGML plone.app.event//EN
X-WR-TIMEZONE:Europe/Rome
BEGIN:VEVENT
SUMMARY:Tutte le forme dell’Acqua
DTSTART;VALUE=DATE:20170322
DTEND;VALUE=DATE:20170323
DTSTAMP;VALUE=DATE-TIME:20260421T153703Z
UID:fb781288ddc9402db1f3095244b8a055@dicam.unibo.it
CREATED;VALUE=DATE-TIME:20170315T154806Z
LAST-MODIFIED;VALUE=DATE-TIME:20170315T154900Z
URL:https://dicam.unibo.it/it/eventi/tutte-le-forme-dell2019acqua
END:VEVENT
END:VCALENDAR
