BEGIN:VCALENDAR
VERSION:2.0
PRODID:-//Plone.org//NONSGML plone.app.event//EN
X-WR-TIMEZONE:Europe/Rome
BEGIN:VEVENT
SUMMARY:Un anno di guerra: la geopolitica del gas del Mediterraneo
DTSTART;TZID=Europe/Rome;VALUE=DATE-TIME:20230316T140000
DTEND;TZID=Europe/Rome;VALUE=DATE-TIME:20230316T160000
DTSTAMP;VALUE=DATE-TIME:20260421T061335Z
UID:e53c7ecde410418e97f3f18cbd43987d@dicam.unibo.it
CREATED;VALUE=DATE-TIME:20230307T070003Z
DESCRIPTION:Gianni Bessi\nConsigliere regionale - Regione Emilia-Romagna
LAST-MODIFIED;VALUE=DATE-TIME:20230308T182306Z
URL:https://dicam.unibo.it/it/eventi/un-anno-di-guerra-la-geopolitica-del-
 gas-del-mediterraneo
END:VEVENT
BEGIN:VTIMEZONE
TZID:Europe/Rome
X-LIC-LOCATION:Europe/Rome
BEGIN:STANDARD
DTSTART;VALUE=DATE-TIME:20221030T020000
TZNAME:CET
TZOFFSETFROM:+0200
TZOFFSETTO:+0100
END:STANDARD
END:VTIMEZONE
END:VCALENDAR
