BEGIN:VCALENDAR
VERSION:2.0
PRODID:-//Plone.org//NONSGML plone.app.event//EN
X-WR-TIMEZONE:Europe/Rome
BEGIN:VEVENT
SUMMARY:UNA EUROPA PhD SLAM
DTSTART;TZID=Europe/Rome;VALUE=DATE-TIME:20211104T120000
DTEND;TZID=Europe/Rome;VALUE=DATE-TIME:20211104T140000
DTSTAMP;VALUE=DATE-TIME:20260425T010842Z
UID:38a5e1e880174d50a80df420474873c8@dicam.unibo.it
CREATED;VALUE=DATE-TIME:20211019T103859Z
DESCRIPTION:call for partecipation
LAST-MODIFIED;VALUE=DATE-TIME:20211019T104203Z
URL:https://dicam.unibo.it/it/eventi/una-europa-phd-slam
END:VEVENT
BEGIN:VTIMEZONE
TZID:Europe/Rome
X-LIC-LOCATION:Europe/Rome
BEGIN:STANDARD
DTSTART;VALUE=DATE-TIME:20211031T020000
TZNAME:CET
TZOFFSETFROM:+0200
TZOFFSETTO:+0100
END:STANDARD
END:VTIMEZONE
END:VCALENDAR
