BEGIN:VCALENDAR
VERSION:2.0
PRODID:-//Plone.org//NONSGML plone.app.event//EN
X-WR-TIMEZONE:Europe/Rome
BEGIN:VEVENT
SUMMARY:Understanding the limits of continuous process operation in filtra
 tion
DTSTART;TZID=Europe/Rome;VALUE=DATE-TIME:20230316T110000
DTEND;TZID=Europe/Rome;VALUE=DATE-TIME:20230316T120000
DTSTAMP;VALUE=DATE-TIME:20260421T061006Z
UID:cc4e6875b70540429274ef44cfbd7988@dicam.unibo.it
CREATED;VALUE=DATE-TIME:20230313T093026Z
DESCRIPTION:Dr. Gernot Krammer\, Graz University of Technology\, Austria
LAST-MODIFIED;VALUE=DATE-TIME:20230313T093026Z
URL:https://dicam.unibo.it/it/eventi/understanding-the-limits-of-continuou
 s-process-operation-in-filtration
END:VEVENT
BEGIN:VTIMEZONE
TZID:Europe/Rome
X-LIC-LOCATION:Europe/Rome
BEGIN:STANDARD
DTSTART;VALUE=DATE-TIME:20221030T020000
TZNAME:CET
TZOFFSETFROM:+0200
TZOFFSETTO:+0100
END:STANDARD
END:VTIMEZONE
END:VCALENDAR
