BEGIN:VCALENDAR
VERSION:2.0
PRODID:-//Plone.org//NONSGML plone.app.event//EN
X-WR-TIMEZONE:Europe/Rome
BEGIN:VEVENT
SUMMARY:Use and Abuse of Machine Learning in Scientific Discovery
DTSTART;TZID=Europe/Rome;VALUE=DATE-TIME:20240222T150000
DTEND;TZID=Europe/Rome;VALUE=DATE-TIME:20240222T190000
DTSTAMP;VALUE=DATE-TIME:20260421T020249Z
UID:3cd6dc81d9dd4cb795471e646196423d@dicam.unibo.it
CREATED;VALUE=DATE-TIME:20240219T093047Z
DESCRIPTION:Daniel M. Tartakovsky\, Stanford University\, Stanford\, CA 
 – United States
LAST-MODIFIED;VALUE=DATE-TIME:20240219T093142Z
URL:https://dicam.unibo.it/it/eventi/use-and-abuse-of-machine-learning-in-
 scientific-discovery
END:VEVENT
BEGIN:VTIMEZONE
TZID:Europe/Rome
X-LIC-LOCATION:Europe/Rome
BEGIN:STANDARD
DTSTART;VALUE=DATE-TIME:20231029T020000
TZNAME:CET
TZOFFSETFROM:+0200
TZOFFSETTO:+0100
END:STANDARD
END:VTIMEZONE
END:VCALENDAR
