BEGIN:VCALENDAR
VERSION:2.0
PRODID:-//Plone.org//NONSGML plone.app.event//EN
X-WR-TIMEZONE:Europe/Rome
BEGIN:VEVENT
SUMMARY:VI Convegno Nazionale dei Ricercatori di Ingegneria Geotecnica - C
 NRIG
DTSTART;TZID=Europe/Rome;VALUE=DATE-TIME:20160922T083000
DTEND;TZID=Europe/Rome;VALUE=DATE-TIME:20160923T163000
DTSTAMP;VALUE=DATE-TIME:20260421T142907Z
UID:3c05cd4b12634972a169e60572c6b2d8@dicam.unibo.it
CREATED;VALUE=DATE-TIME:20160920T083249Z
DESCRIPTION:L’Ingegneria Geotecnica nella ricerca interdisciplinare: dal
 la microscala alla scala territoriale.
LAST-MODIFIED;VALUE=DATE-TIME:20160920T083324Z
URL:https://dicam.unibo.it/it/eventi/vi-convegno-nazionale-dei-ricercatori
 -di-ingegneria-geotecnica-cnrig
END:VEVENT
BEGIN:VTIMEZONE
TZID:Europe/Rome
X-LIC-LOCATION:Europe/Rome
BEGIN:DAYLIGHT
DTSTART;VALUE=DATE-TIME:20160327T030000
TZNAME:CEST
TZOFFSETFROM:+0100
TZOFFSETTO:+0200
END:DAYLIGHT
END:VTIMEZONE
END:VCALENDAR
