BEGIN:VCALENDAR
VERSION:2.0
PRODID:-//Plone.org//NONSGML plone.app.event//EN
X-WR-TIMEZONE:Europe/Rome
BEGIN:VEVENT
SUMMARY:VI European Bioremediation conference
DTSTART;TZID=Europe/Rome;VALUE=DATE-TIME:20150629T000000
DTEND;TZID=Europe/Rome;VALUE=DATE-TIME:20150702T000000
DTSTAMP;VALUE=DATE-TIME:20260421T080042Z
UID:d5ecd982b967428fa7d2fe977dc5eaff@dicam.unibo.it
CREATED;VALUE=DATE-TIME:20141209T111405Z
LAST-MODIFIED;VALUE=DATE-TIME:20141209T111521Z
URL:https://dicam.unibo.it/it/eventi/vi-european-bioremediation-conference
END:VEVENT
BEGIN:VTIMEZONE
TZID:Europe/Rome
X-LIC-LOCATION:Europe/Rome
BEGIN:DAYLIGHT
DTSTART;VALUE=DATE-TIME:20150329T030000
TZNAME:CEST
TZOFFSETFROM:+0100
TZOFFSETTO:+0200
END:DAYLIGHT
END:VTIMEZONE
END:VCALENDAR
