BEGIN:VCALENDAR
VERSION:2.0
PRODID:-//Plone.org//NONSGML plone.app.event//EN
X-WR-TIMEZONE:Europe/Rome
BEGIN:VEVENT
SUMMARY:W.A.T.E.R.: Workshop on Advanced measurement Techniques and Experi
 mental Research
DTSTART;VALUE=DATE:20180924
DTEND;VALUE=DATE:20180929
DTSTAMP;VALUE=DATE-TIME:20260424T200011Z
UID:9585b4eec5a344588e0b5c12a9cc336c@dicam.unibo.it
CREATED;VALUE=DATE-TIME:20180514T130755Z
DESCRIPTION:International Summer School on Hydraulics Measurement Techniqu
 es.
LAST-MODIFIED;VALUE=DATE-TIME:20180514T131125Z
URL:https://dicam.unibo.it/it/eventi/w.a.t.e.r.-workshop-on-advanced-measu
 rement-techniques-and-experimental-research-1
END:VEVENT
END:VCALENDAR
