BEGIN:VCALENDAR
VERSION:2.0
PRODID:-//Plone.org//NONSGML plone.app.event//EN
X-WR-TIMEZONE:Europe/Rome
BEGIN:VEVENT
SUMMARY:W.A.T.E.R. Workshop on Advanced measurement Techniques and Experim
 ental Research
DTSTART;VALUE=DATE:20171002
DTEND;VALUE=DATE:20171007
DTSTAMP;VALUE=DATE-TIME:20260424T195753Z
UID:061ddb260bac46c1890643a1e33b1cac@dicam.unibo.it
CREATED;VALUE=DATE-TIME:20170621T070705Z
DESCRIPTION:International Summer School on Hydraulics Measurement Techniqu
 es
LAST-MODIFIED;VALUE=DATE-TIME:20170621T071028Z
URL:https://dicam.unibo.it/it/eventi/w.a.t.e.r.-workshop-on-advanced-measu
 rement-techniques-and-experimental-research
END:VEVENT
END:VCALENDAR
