BEGIN:VCALENDAR
VERSION:2.0
PRODID:-//Plone.org//NONSGML plone.app.event//EN
X-WR-TIMEZONE:Europe/Rome
BEGIN:VEVENT
SUMMARY:Watching paint dry: How fundamental science can improve functional
  coatings
DTSTART;TZID=Europe/Rome;VALUE=DATE-TIME:20220314T150000
DTEND;TZID=Europe/Rome;VALUE=DATE-TIME:20220314T170000
DTSTAMP;VALUE=DATE-TIME:20260419T162558Z
UID:3930613ff8cb400286ffad018adbae9d@dicam.unibo.it
CREATED;VALUE=DATE-TIME:20220222T091045Z
DESCRIPTION:Dr. Ignacio Martin-Fabiani\, Loughborough University (UK)
LAST-MODIFIED;VALUE=DATE-TIME:20220222T093842Z
URL:https://dicam.unibo.it/it/eventi/watching-paint-dry-how-fundamental-sc
 ience-can-improve-functional-coatings
END:VEVENT
BEGIN:VTIMEZONE
TZID:Europe/Rome
X-LIC-LOCATION:Europe/Rome
BEGIN:STANDARD
DTSTART;VALUE=DATE-TIME:20211031T020000
TZNAME:CET
TZOFFSETFROM:+0200
TZOFFSETTO:+0100
END:STANDARD
END:VTIMEZONE
END:VCALENDAR
