BEGIN:VCALENDAR
VERSION:2.0
PRODID:-//Plone.org//NONSGML plone.app.event//EN
X-WR-TIMEZONE:Europe/Rome
BEGIN:VEVENT
SUMMARY:Webinar "Riding the Waves of Resilience: Empowering Coastal Commun
 ities"
DTSTART;TZID=Europe/Rome;VALUE=DATE-TIME:20231019T170000
DTEND;TZID=Europe/Rome;VALUE=DATE-TIME:20231019T180000
DTSTAMP;VALUE=DATE-TIME:20260421T044151Z
UID:74db0d31f80849e59aab313c2efc21a8@dicam.unibo.it
CREATED;VALUE=DATE-TIME:20231016T081223Z
DESCRIPTION:Saranno presentati due progetti che fanno parte del Decennio d
 elle Scienze degli Oceani ONU con un focus su pratiche di citizen science 
 e community engagement.
LAST-MODIFIED;VALUE=DATE-TIME:20231016T081352Z
URL:https://dicam.unibo.it/it/eventi/webinar-riding-the-waves-of-resilienc
 e-empowering-coastal-communities
END:VEVENT
BEGIN:VTIMEZONE
TZID:Europe/Rome
X-LIC-LOCATION:Europe/Rome
BEGIN:DAYLIGHT
DTSTART;VALUE=DATE-TIME:20230326T030000
TZNAME:CEST
TZOFFSETFROM:+0100
TZOFFSETTO:+0200
END:DAYLIGHT
END:VTIMEZONE
END:VCALENDAR
