BEGIN:VCALENDAR
VERSION:2.0
PRODID:-//Plone.org//NONSGML plone.app.event//EN
X-WR-TIMEZONE:Europe/Rome
BEGIN:VEVENT
SUMMARY:Workshop: I chimici per le Biotecnologie
DTSTART;VALUE=DATE:20180223
DTEND;VALUE=DATE:20180224
DTSTAMP;VALUE=DATE-TIME:20260424T062604Z
UID:6a4fdd6e522b4a899f94150be9d16d02@dicam.unibo.it
CREATED;VALUE=DATE-TIME:20180119T104218Z
LAST-MODIFIED;VALUE=DATE-TIME:20180119T104432Z
URL:https://dicam.unibo.it/it/eventi/workshop-i-chimici-per-le-biotecnolog
 ie
END:VEVENT
END:VCALENDAR
