BEGIN:VCALENDAR
VERSION:2.0
PRODID:-//Plone.org//NONSGML plone.app.event//EN
X-WR-TIMEZONE:Europe/Rome
BEGIN:VEVENT
SUMMARY:Workshop: Membranes in Bioprocessing 
DTSTART;TZID=Europe/Rome;VALUE=DATE-TIME:20160508T090000
DTEND;TZID=Europe/Rome;VALUE=DATE-TIME:20160510T170000
DTSTAMP;VALUE=DATE-TIME:20260421T093511Z
UID:7d667855034c4094b9ba5f054a17b8fd@dicam.unibo.it
CREATED;VALUE=DATE-TIME:20160421T075454Z
LAST-MODIFIED;VALUE=DATE-TIME:20160421T075520Z
URL:https://dicam.unibo.it/it/eventi/workshop-membranes-in-bioprocessing
END:VEVENT
BEGIN:VTIMEZONE
TZID:Europe/Rome
X-LIC-LOCATION:Europe/Rome
BEGIN:DAYLIGHT
DTSTART;VALUE=DATE-TIME:20160327T030000
TZNAME:CEST
TZOFFSETFROM:+0100
TZOFFSETTO:+0200
END:DAYLIGHT
END:VTIMEZONE
END:VCALENDAR
