BEGIN:VCALENDAR
VERSION:2.0
PRODID:-//Plone.org//NONSGML plone.app.event//EN
X-WR-TIMEZONE:Europe/Rome
BEGIN:VEVENT
SUMMARY:WOW Women Motor
DTSTART;TZID=Europe/Rome;VALUE=DATE-TIME:20240308T100000
DTEND;TZID=Europe/Rome;VALUE=DATE-TIME:20240308T120000
DTSTAMP;VALUE=DATE-TIME:20260421T061007Z
UID:6c4215f5ad0b44998ceb5da64e97d004@dicam.unibo.it
CREATED;VALUE=DATE-TIME:20240216T164712Z
DESCRIPTION:Evento sull'empowerment femminile e sull'importanza della pari
 tà di genere\, che parte dal mondo dell'Automotive
LAST-MODIFIED;VALUE=DATE-TIME:20250623T103002Z
URL:https://dicam.unibo.it/it/eventi/wow-women-motor
END:VEVENT
BEGIN:VTIMEZONE
TZID:Europe/Rome
X-LIC-LOCATION:Europe/Rome
BEGIN:STANDARD
DTSTART;VALUE=DATE-TIME:20231029T020000
TZNAME:CET
TZOFFSETFROM:+0200
TZOFFSETTO:+0100
END:STANDARD
END:VTIMEZONE
END:VCALENDAR
