BEGIN:VCALENDAR
VERSION:2.0
PRODID:-//Plone.org//NONSGML plone.app.event//EN
X-WR-TIMEZONE:Europe/Rome
BEGIN:VEVENT
SUMMARY:X Convegno dei Giovani Ricercatori di Geologia Applicata 2016
DTSTART;TZID=Europe/Rome;VALUE=DATE-TIME:20160218T080000
DTEND;TZID=Europe/Rome;VALUE=DATE-TIME:20160219T160000
DTSTAMP;VALUE=DATE-TIME:20260421T094532Z
UID:bbbc3e81310045428ec0318b1c108090@dicam.unibo.it
CREATED;VALUE=DATE-TIME:20160205T090537Z
LAST-MODIFIED;VALUE=DATE-TIME:20160205T090618Z
URL:https://dicam.unibo.it/it/eventi/x-convegno-dei-giovani-ricercatori-di
 -geologia-applicata-2016
END:VEVENT
BEGIN:VTIMEZONE
TZID:Europe/Rome
X-LIC-LOCATION:Europe/Rome
BEGIN:STANDARD
DTSTART;VALUE=DATE-TIME:20151025T020000
TZNAME:CET
TZOFFSETFROM:+0200
TZOFFSETTO:+0100
END:STANDARD
END:VTIMEZONE
END:VCALENDAR
