BEGIN:VCALENDAR
VERSION:2.0
PRODID:-//Plone.org//NONSGML plone.app.event//EN
X-WR-TIMEZONE:Europe/Rome
BEGIN:VEVENT
SUMMARY:XXXV Convegno Nazionale di Idraulica e Costruzioni Idrauliche -  I
 DRA16
DTSTART;TZID=Europe/Rome;VALUE=DATE-TIME:20160914T100000
DTEND;TZID=Europe/Rome;VALUE=DATE-TIME:20160916T180000
DTSTAMP;VALUE=DATE-TIME:20260421T111037Z
UID:f046bdcf1d9a48b1839a4c182f964276@dicam.unibo.it
CREATED;VALUE=DATE-TIME:20160914T123812Z
DESCRIPTION:Ambiente\, risorse\, energia: le sfide dell'ingegneria delle a
 cque in un mondo che cambia.
LAST-MODIFIED;VALUE=DATE-TIME:20160914T131414Z
URL:https://dicam.unibo.it/it/eventi/xxxv-convegno-nazionale-di-idraulica-
 e-costruzioni-idrauliche-idra16
END:VEVENT
BEGIN:VTIMEZONE
TZID:Europe/Rome
X-LIC-LOCATION:Europe/Rome
BEGIN:DAYLIGHT
DTSTART;VALUE=DATE-TIME:20160327T030000
TZNAME:CEST
TZOFFSETFROM:+0100
TZOFFSETTO:+0200
END:DAYLIGHT
END:VTIMEZONE
END:VCALENDAR
